BEGIN:VCALENDAR
VERSION:2.0
PRODID:-//L1 Automotive Training - ECPv6.15.20//NONSGML v1.0//EN
CALSCALE:GREGORIAN
METHOD:PUBLISH
X-WR-CALNAME:L1 Automotive Training
X-ORIGINAL-URL:https://l1training.com
X-WR-CALDESC:Events for L1 Automotive Training
REFRESH-INTERVAL;VALUE=DURATION:PT1H
X-Robots-Tag:noindex
X-PUBLISHED-TTL:PT1H
BEGIN:VTIMEZONE
TZID:America/Chicago
BEGIN:DAYLIGHT
TZOFFSETFROM:-0600
TZOFFSETTO:-0500
TZNAME:CDT
DTSTART:20250309T080000
END:DAYLIGHT
BEGIN:STANDARD
TZOFFSETFROM:-0500
TZOFFSETTO:-0600
TZNAME:CST
DTSTART:20251102T070000
END:STANDARD
BEGIN:DAYLIGHT
TZOFFSETFROM:-0600
TZOFFSETTO:-0500
TZNAME:CDT
DTSTART:20260308T080000
END:DAYLIGHT
BEGIN:STANDARD
TZOFFSETFROM:-0500
TZOFFSETTO:-0600
TZNAME:CST
DTSTART:20261101T070000
END:STANDARD
BEGIN:DAYLIGHT
TZOFFSETFROM:-0600
TZOFFSETTO:-0500
TZNAME:CDT
DTSTART:20270314T080000
END:DAYLIGHT
BEGIN:STANDARD
TZOFFSETFROM:-0500
TZOFFSETTO:-0600
TZNAME:CST
DTSTART:20271107T070000
END:STANDARD
END:VTIMEZONE
BEGIN:VEVENT
DTSTART;TZID=America/Chicago:20260718T080000
DTEND;TZID=America/Chicago:20260719T170000
DTSTAMP:20260423T155615
CREATED:20260112T210825Z
LAST-MODIFIED:20260112T210825Z
UID:63768-1784361600-1784480400@l1training.com
SUMMARY:2 Day Hands-On - ADAS Successful Calibrations & Troubleshooting Course
DESCRIPTION:       \nCourse Outline:\nADAS sensors\, modules\, components and their operations \nWhen does it need a calibration? \nWhat equipment do I need? \nCommon pitfalls and mistakes and how to avoid them \nLimitations of OEM and Aftermarket tools \nProgramming and ADAS module/sensor replacement \nSuccessful Calibration Procedures and Documentation \nThis class is designed NOT ONLY for seasoned ADAS technicians that want to expand their abilities for troubleshooting and getting beyond the “place target and press the button”\, as we cover sensor and module replacement and programming. Module and network troubleshooting are a big part of ADAS diagnosis. \nBUT\, this class is also designed to assist technicians that are new to ADAS in creating successful processes and procedures to properly calibrate the most popular static and dynamic ADAS systems. \nWe will briefly cover ADAS sensors and their operation to build a fundamental knowledge of ADAS systems. We will cover troubleshooting and common pitfalls for the advanced ADAS technician and newcomers alike. THIS IS A COMPLETE ADAS COURSE. We will be calibrating multiple vehicles in class. (Also is a requirement for any technicians looking to be certified by us as ADAS Specialist\, a certification program we are launching soon) \nOEM and aftermarket tooling and targets will be discussed.  \n—————————————————————————————————————————————— \nThe cost of $1200 includes 2 days of class\, meals & the virtual book that we regularly update. \n—————————————————————————————————————————————— \nHere are the hotels we recommend\, they are within 5 minutes of the facility and 15 minutes of the airport (TUL – Tulsa International Airport). \nHomewood Suites by Hilton Tulsa Catoosa – 201 Elliott Ln\, Catoosa\, OK 74015 \nHampton Inn & Suites Tulsa/Catoosa – 100 McNabb Field Rd\, Catoosa\, OK 74015 \nHard Rock Hotel And Casino Tulsa – 777 W Cherokee St\, Catoosa\, OK 74015 \nOur Facility is at: 683 N 151st E Ave Tulsa\, Oklahoma 74116 \n—————————————————————————————————————————————— \nClass Schedule: \nSaturday \n7:30AM Breakfast (Provided at L1 Facility) \n8:00AM Class starts \n12:00PM Lunch (Provided at L1 Facility) \n5:00PM Class Ends \n6-7:00 PM Dinner (Group Dinner at a local restaurant\, provided by L1 except for alcohol) \nSunday \n7:30AM Breakfast (Provided at L1 Facility) \n8:00AM Class starts \n12:00PM Lunch (Provided at L1 Facility) \n5:00PM-ish Class Ends \n——————————————————————————————————————————————
URL:https://l1training.com/event/2-day-hands-on-adas-successful-calibrations-troubleshooting-course/
LOCATION:L1 Training Center\, 683 N 151st E Ave\, Tulsa\, OK\, 74116\, United States
END:VEVENT
END:VCALENDAR