BEGIN:VCALENDAR
VERSION:2.0
PRODID:-//L1 Automotive Training - ECPv6.15.20//NONSGML v1.0//EN
CALSCALE:GREGORIAN
METHOD:PUBLISH
X-WR-CALNAME:L1 Automotive Training
X-ORIGINAL-URL:https://l1training.com
X-WR-CALDESC:Events for L1 Automotive Training
REFRESH-INTERVAL;VALUE=DURATION:PT1H
X-Robots-Tag:noindex
X-PUBLISHED-TTL:PT1H
BEGIN:VTIMEZONE
TZID:America/Chicago
BEGIN:DAYLIGHT
TZOFFSETFROM:-0600
TZOFFSETTO:-0500
TZNAME:CDT
DTSTART:20250309T080000
END:DAYLIGHT
BEGIN:STANDARD
TZOFFSETFROM:-0500
TZOFFSETTO:-0600
TZNAME:CST
DTSTART:20251102T070000
END:STANDARD
BEGIN:DAYLIGHT
TZOFFSETFROM:-0600
TZOFFSETTO:-0500
TZNAME:CDT
DTSTART:20260308T080000
END:DAYLIGHT
BEGIN:STANDARD
TZOFFSETFROM:-0500
TZOFFSETTO:-0600
TZNAME:CST
DTSTART:20261101T070000
END:STANDARD
BEGIN:DAYLIGHT
TZOFFSETFROM:-0600
TZOFFSETTO:-0500
TZNAME:CDT
DTSTART:20270314T080000
END:DAYLIGHT
BEGIN:STANDARD
TZOFFSETFROM:-0500
TZOFFSETTO:-0600
TZNAME:CST
DTSTART:20271107T070000
END:STANDARD
END:VTIMEZONE
BEGIN:VEVENT
DTSTART;TZID=America/Chicago:20260606T080000
DTEND;TZID=America/Chicago:20260607T170000
DTSTAMP:20260423T142502
CREATED:20260112T163300Z
LAST-MODIFIED:20260112T163300Z
UID:63747-1780732800-1780851600@l1training.com
SUMMARY:2 Day – Asian Module Programming Course (Brand New Course)
DESCRIPTION:Class is $1200 \nIt includes:\nAccess to a virtual book that is always updated\n Breakfast\, Lunch & Dinner (Group activity offsite) on Saturday\nBreakfast & Lunch on Sunday\nThis is an all new course! Completely revamped and expanded to be 2 days dedicated to Asian vehicle manufacturers!\nThis course covers everything needed to confidently perform J2534 & OEM interface programming on Nissan\, Toyota\, Mazda\, Honda\, Subaru and Hyundai/Genesis/Kia vehicles. Whether you’re brand new to flashing or already experienced\, you’ll gain practical knowledge\, advanced techniques\, and critical troubleshooting skills to handle real-world programming challenges. We’ll cover required hardware\, software platforms\, best practices\, common pitfalls\, and the limitations of J2534 over OEM interfaces\, module replacement procedures\, transmission replacement procedures\, key programming/registration\, and customer convenience programming for each brand! The class also includes an overview of Right to Repair as it relates to module programming in the field. \nKey takeaways: \n\nRequired tools and software\nTroubleshooting and workarounds\nJ2534 limitations explained\nRight to Repair overview\n\nHere are the hotels we recommend\, they are within 5 minutes of the facility and 15 minutes of the airport (TUL – Tulsa International Airport). \nHomewood Suites by Hilton Tulsa Catoosa – 201 Elliott Ln\, Catoosa\, OK 74015 \nHampton Inn & Suites Tulsa/Catoosa – 100 McNabb Field Rd\, Catoosa\, OK 74015 \nHard Rock Hotel And Casino Tulsa – 777 W Cherokee St\, Catoosa\, OK 74015 \nOur Facility is at: 683 N 151st E Ave Tulsa\, Oklahoma 74116 \n—————————————————————————————————————————————— \nClass Schedule: \nSaturday \n7:30AM Breakfast (Provided at L1 Facility) \n8:00AM Class starts \n12:00PM Lunch (Provided at L1 Facility) \n5:00PM Class Ends \n6-7:00 PM Dinner (Group dinner at a local restaurant\, provided for by L1 with the exception of alcohol) \nSunday \n7:30AM Breakfast (Provided at L1 Facility) \n8:00AM Class starts \n12:00PM Lunch (Provided at L1 Facility) \n5:00PM-ish Class Ends \n——————————————————————————————————————————————
URL:https://l1training.com/event/2-day-asian-module-programming-course-brand-new-course/
LOCATION:L1 Training Center\, 683 N 151st E Ave\, Tulsa\, OK\, 74116\, United States
END:VEVENT
BEGIN:VEVENT
DTSTART;TZID=America/Chicago:20260627T080000
DTEND;TZID=America/Chicago:20260628T170000
DTSTAMP:20260423T142503
CREATED:20260112T221733Z
LAST-MODIFIED:20260112T222024Z
UID:63772-1782547200-1782666000@l1training.com
SUMMARY:2 Day - Think Like the PCM: Advanced Scan Data Diagnostics
DESCRIPTION:Class is $1200 \nIt includes:\nAccess to a virtual book that is always updated\n Breakfast\, Lunch & Dinner (Group activity offsite) on Saturday\nBreakfast & Lunch on Sunday\nThink Like the PCM: Advanced Scan Data Diagnostics\nEffective diagnostics don’t come from finding a PID\, they come from understanding how the PCM interprets all the data together.This class starts by establishing a repeatable diagnostic process that applies to any vehicle concern\, creating a solid foundation for consistent\, disciplined troubleshooting. From there\, the focus shifts to scan data interpretation\, teaching how the PCM evaluates sensor inputs\, compares them to expected models\, and uses that information to make decisions.Rather than chasing codes or isolated data points\, attendees learn how to identify relevant PIDs\, understand what “normal” actually looks like in context\, and use scan data to develop diagnostic direction. The emphasis is on knowing why a data point matters\, when it matters\, and how it guides the next test. \nThis course is designed to help technicians move from data observation to data-driven decision-making\, reducing guesswork and improving accuracy on complex\, modern vehicles. \nKey takeaways: \n\nA structured\, repeatable diagnostic foundation\nHow the PCM interprets and correlates scan data\nIdentifying meaningful PIDs based on the diagnostic question\nUsing data to establish direction\, not just confirmation\nGreater confidence and consistency in data-based diagnostics\n\n  \nHere are the hotels we recommend\, they are within 5 minutes of the facility and 15 minutes of the airport (TUL – Tulsa International Airport). \nHomewood Suites by Hilton Tulsa Catoosa – 201 Elliott Ln\, Catoosa\, OK 74015 \nHampton Inn & Suites Tulsa/Catoosa – 100 McNabb Field Rd\, Catoosa\, OK 74015 \nHard Rock Hotel And Casino Tulsa – 777 W Cherokee St\, Catoosa\, OK 74015 \nOur Facility is at: 683 N 151st E Ave Tulsa\, Oklahoma 74116 \n—————————————————————————————————————————————— \nClass Schedule: \nSaturday \n7:30AM Breakfast (Provided at L1 Facility) \n8:00AM Class starts \n12:00PM Lunch (Provided at L1 Facility) \n5:00PM Class Ends \n6-7:00 PM Dinner (Group dinner at a local restaurant\, provided for by L1 with the exception of alcohol) \nSunday \n7:30AM Breakfast (Provided at L1 Facility) \n8:00AM Class starts \n12:00PM Lunch (Provided at L1 Facility) \n5:00PM-ish Class Ends \n——————————————————————————————————————————————
URL:https://l1training.com/event/2-day-think-like-the-pcm-advanced-scan-data-diagnostics/
LOCATION:L1 Training Center\, 683 N 151st E Ave\, Tulsa\, OK\, 74116\, United States
END:VEVENT
END:VCALENDAR