BEGIN:VCALENDAR
VERSION:2.0
PRODID:-//L1 Automotive Training - ECPv6.15.20//NONSGML v1.0//EN
CALSCALE:GREGORIAN
METHOD:PUBLISH
X-WR-CALNAME:L1 Automotive Training
X-ORIGINAL-URL:https://l1training.com
X-WR-CALDESC:Events for L1 Automotive Training
REFRESH-INTERVAL;VALUE=DURATION:PT1H
X-Robots-Tag:noindex
X-PUBLISHED-TTL:PT1H
BEGIN:VTIMEZONE
TZID:America/Chicago
BEGIN:DAYLIGHT
TZOFFSETFROM:-0600
TZOFFSETTO:-0500
TZNAME:CDT
DTSTART:20200308T080000
END:DAYLIGHT
BEGIN:STANDARD
TZOFFSETFROM:-0500
TZOFFSETTO:-0600
TZNAME:CST
DTSTART:20201101T070000
END:STANDARD
BEGIN:DAYLIGHT
TZOFFSETFROM:-0600
TZOFFSETTO:-0500
TZNAME:CDT
DTSTART:20210314T080000
END:DAYLIGHT
BEGIN:STANDARD
TZOFFSETFROM:-0500
TZOFFSETTO:-0600
TZNAME:CST
DTSTART:20211107T070000
END:STANDARD
BEGIN:DAYLIGHT
TZOFFSETFROM:-0600
TZOFFSETTO:-0500
TZNAME:CDT
DTSTART:20220313T080000
END:DAYLIGHT
BEGIN:STANDARD
TZOFFSETFROM:-0500
TZOFFSETTO:-0600
TZNAME:CST
DTSTART:20221106T070000
END:STANDARD
BEGIN:DAYLIGHT
TZOFFSETFROM:-0600
TZOFFSETTO:-0500
TZNAME:CDT
DTSTART:20230312T080000
END:DAYLIGHT
BEGIN:STANDARD
TZOFFSETFROM:-0500
TZOFFSETTO:-0600
TZNAME:CST
DTSTART:20231105T070000
END:STANDARD
END:VTIMEZONE
BEGIN:VEVENT
DTSTART;VALUE=DATE:20220827
DTEND;VALUE=DATE:20220829
DTSTAMP:20260424T173911
CREATED:20220607T235604Z
LAST-MODIFIED:20220826T153211Z
UID:5749-1661558400-1661731199@l1training.com
SUMMARY:2 Day Hands On Module Programming Class
DESCRIPTION:SOLD OUT!!!!!!!!!!!!!!!!!!!!!!!!!!!!!!!!!!!!!!!!!!!!!!!\n\nTHIS CLASS HAS BEEN HEAVILY UPDATED SINCE IT WAS TAUGHT IN OCTOBER 2021 and Updated from the April 2022 Class\nYou asked and we listened\, by the information we received from others that have previously taken this class\, we removed over 2 hours of information on equipment and tooling\, and added Subaru\, Mazda MDARS\, Ford FDRS and Used module programming information to the class.  \n\nModule Programming Class Description: This programming class is designed to have some advanced and unconventional information to satisfy even the most seasoned of module programming techs! BUT! We will cover all information needed to take a technician that has never flashed a module and prepare them to successfully flash the most common Domestic and Asian vehicles\, as well as arm them with the troubleshooting skills to tackle even the peskiest of module programming scenarios. \nWe will cover all the equipment and software requirements of today. This programming class will prepare you for GM\, Ford\, Chrysler\, Nissan\, Toyota\, Honda\, Mazda\, Hyundai\, Kia and Subaru vehicles. We will cover some best practices\, workarounds\, and the limitations of the J2534 platform as well as many solution for when OEM and J2534 options fail. This class will also touch on “Right to Repair” information and how it pertains to module flashing in the field. So put your J-Box where your mouth is and buckle up for a complete module programming crash course! \n  \nSelect your options below and click “Buy Now” to Sign Up for Class\nSOLD OUT!!!!!!!!!!!!!!!!!!!!!!!!!!!!!!!!!!!!!!!!!!!!!!!
URL:https://l1training.com/event/2-day-hands-on-module-programming-class/
LOCATION:L1 Training Center\, 683 N 151st E Ave\, Tulsa\, OK\, 74116\, United States
END:VEVENT
BEGIN:VEVENT
DTSTART;VALUE=DATE:20220430
DTEND;VALUE=DATE:20220502
DTSTAMP:20260424T173911
CREATED:20211207T234405Z
LAST-MODIFIED:20220329T185016Z
UID:1540-1651276800-1651449599@l1training.com
SUMMARY:2 Day J2534 Domestic and Asian Programming
DESCRIPTION:THIS CLASS HAS BEEN HEAVILY UPDATED SINCE IT WAS TAUGHT IN OCTOBER 2021\nYou asked and we listened\, by the information we received from others that have previously taken this class\, we removed over 2 hours of information on equipment and tooling\, and added Subaru\, Mazda MDARS\, Ford FDRS and Used module programming information to the class.  \n\nJ2534 Programming Class Description: This J2534 class is designed to have some advanced and unconventional information to satisfy even the most seasoned of module programming techs! BUT! We will cover all information needed to take a technician that has never flashed a module and prepare them to successfully flash the most common Domestic and Asian vehicles\, as well as arm them with the troubleshooting skills to tackle even the peskiest of module programming scenarios. \nWe will cover all the equipment and software requirements of today. This J2534 class will prepare you for GM\, Ford\, Chrysler\, Nissan\, Toyota\, Honda\, Mazda\, Hyundai\, Kia and Subaru vehicles. We will cover some best practices\, workarounds\, and the limitations of the J2534 platform. This class will also touch on “Right to Repair” information and how it pertains to module flashing in the field. So put your J-Box where your mouth is and buckle up for a complete J2534 crash course! \n  \nCLICK HERE TO PAY for the 2 day class\, book\, breakfast and lunch for Saturday and Sunday\, dinner for Saturday night\, AND hotel for Friday and Saturday night. $1500 USD\nCLICK HERE TO PAY for both days of class\, book\, and meals. This option is if you DO NOT need a hotel.  $1300 USD\n  \n 
URL:https://l1training.com/event/2-day-j2534-domestic-and-asian-programming/
LOCATION:L1 Training Center\, 683 N 151st E Ave\, Tulsa\, OK\, 74116\, United States
END:VEVENT
BEGIN:VEVENT
DTSTART;VALUE=DATE:20220115
DTEND;VALUE=DATE:20220117
DTSTAMP:20260424T173911
CREATED:20211117T231032Z
LAST-MODIFIED:20220113T174850Z
UID:1530-1642204800-1642377599@l1training.com
SUMMARY:2 Day Hands-On Live Vehicle Class - 1st Day Advanced Application of Fundamental Electrical Theory / 2nd Day Network Failure & Diagnosis
DESCRIPTION:1st Day of Class: \nAdvanced Application of Fundamental Electrical Theory – This class is designed for all levels of technicians by providing a quick refresher to bring new the electrical diagnosis technicians up to speed\, as well as solidifying the foundations for all the advanced level technicians. We cover leveraging wiring diagrams for ALL diagnosis. The class then dives into advanced tooling uses\, as well as testing methods to increase your efficiency and accuracy as a diagnostician. \n2nd Day of Class: \nNetwork Failure & Diagnosis – This class will uncover the mystery that is communications and communications diagnosis. We will help you understand how the systems are designed\, how they operate\, and arm you to diagnose the most complicated of communication issues. We create a process that brings the diagnosis to an easy and repeatable process\, that can be applied to more than just networks. \nClick which option you would like! \nTOO LATE! Class is Full!\n 
URL:https://l1training.com/event/2-day-hands-on-live-vehicle-class-1st-day-advanced-application-of-fundamental-electrical-theory-2nd-day-network-failure-diagnosis/
LOCATION:L1 Training Center\, 683 N 151st E Ave\, Tulsa\, OK\, 74116\, United States
END:VEVENT
BEGIN:VEVENT
DTSTART;TZID=America/Chicago:20211016T080000
DTEND;TZID=America/Chicago:20211017T170000
DTSTAMP:20260424T173911
CREATED:20210822T221515Z
LAST-MODIFIED:20211011T222856Z
UID:1493-1634371200-1634490000@l1training.com
SUMMARY:2 Day Hands On J2534 and OE Domestic and Asian Programming Training Event
DESCRIPTION:  \nSOLD OUT!!!\n  \n \nThis 2 day hands on J2534 class is designed to have some advanced and unconventional information to satisfy even the most seasoned of module programming techs! We will cover the use of aftermarket tooling and other options to use a USED module when FORD\, GM and Nissan block this function in the factory tooling. BUT! We will cover all information needed to take a technician that has never flashed a module and prepare them to successfully flash the most common vehicles\, as well as arm them with the troubleshooting skills to tackle even the peskiest of module programming scenarios. \nWe will cover all the equipment and software requirements of today. This J2534 class will prepare you for GM\, Ford\, Chrysler\, Nissan\, Toyota\, Honda\, Mazda\, Hyundai and Kia vehicles. We will cover some best practices\, workarounds\, and the limitations of the J2534 platform so we can cover the need in some instances for OE equipment. This class will also touch on “Right to Repair” information and how it pertains to module flashing and OE software in the field. So put your J-Box where your mouth is and buckle up for a complete J2534 2 day hands on crash course! \nThe event is held in Tulsa Oklahoma at our fully air conditioned shop\, it is recommended that you bring your Laptop/s that you use for programming as well as your J2534 device. \nThe cost of class covers Friday and Saturdays hotel\, breakfast and lunch for each day of class\, Saturdays dinner is cover as well\, we will go out as a group. The book for class is also included in the cost. \nMore information about parking and hotel will be emailed after registration. \nSOLD OUT!!!
URL:https://l1training.com/event/2-day-hands-on-j2534-and-oe-domestic-and-asian-programming-training-event/
LOCATION:L1 Training Center\, 683 N 151st E Ave\, Tulsa\, OK\, 74116\, United States
END:VEVENT
BEGIN:VEVENT
DTSTART;VALUE=DATE:20210515
DTEND;VALUE=DATE:20210517
DTSTAMP:20260424T173911
CREATED:20210428T214555Z
LAST-MODIFIED:20210428T214555Z
UID:1251-1621036800-1621209599@l1training.com
SUMMARY:J2534 Domestic & Asian Programming 2 Day Hands-On Class
DESCRIPTION:We are finally doing another LIVE 2 DAY HANDS ON J3534 CLASS!!! \nWe will be at the AMAZING MobileTech shop in NC again! \nSee the flyer for details and contact info to attend.
URL:https://l1training.com/event/j2534-domestic-asian-programming-2-day-hands-on-class/
LOCATION:MobileTech\, 5929 Market St\, Wilmington\, NC\, 28401\, United States
END:VEVENT
BEGIN:VEVENT
DTSTART;VALUE=DATE:20210409
DTEND;VALUE=DATE:20210411
DTSTAMP:20260424T173911
CREATED:20210201T150719Z
LAST-MODIFIED:20210313T211827Z
UID:1171-1617926400-1618099199@l1training.com
SUMMARY:EEPROM Training Event
DESCRIPTION:THIS IS A CLASS THAT WILL BE HOSTED AT OUR FACILITY. Keith will be helping with instruction\, but it is not a L1 Branded Class.\n \nPLEASE CONTACT miklec99@msn.com to sign up\, and for more information.
URL:https://l1training.com/event/eeprom-training-event-more-info-soon/
LOCATION:OK
END:VEVENT
BEGIN:VEVENT
DTSTART;TZID=America/Chicago:20210321T083000
DTEND;TZID=America/Chicago:20210321T160000
DTSTAMP:20260424T173911
CREATED:20210208T170301Z
LAST-MODIFIED:20210208T170752Z
UID:1209-1616315400-1616342400@l1training.com
SUMMARY:(Encore Event) Advanced Application of Fundamental Electrical Theory (Hands On LIVE)
DESCRIPTION:This is an additional 2nd date as the original sold out hours upon releasing the event.\n  \n \n  \n  \n\n\nMarch 21st Advanced Application of Fundamental Electrical Theory (LIVE Class)\nBuy now
URL:https://l1training.com/event/encore-event-advanced-application-of-fundamental-electrical-theory-hands-on-live/
LOCATION:OK
END:VEVENT
BEGIN:VEVENT
DTSTART;TZID=America/Chicago:20210320T090000
DTEND;TZID=America/Chicago:20210320T160000
DTSTAMP:20260424T173911
CREATED:20210202T033258Z
LAST-MODIFIED:20210208T161743Z
UID:1177-1616230800-1616256000@l1training.com
SUMMARY:SOLD OUT !!! Advanced Application of Fundamental Electrical Theory (LIVE CLASS) SOLD OUT!!!
DESCRIPTION:SOLD OUT!!!\n\n\nSOLD OUT !!!\n\n 
URL:https://l1training.com/event/advanced-application-of-fundamental-electrical-theory-live-class/
LOCATION:OK
END:VEVENT
END:VCALENDAR